 BEGIN:VCALENDAR
VERSION:2.0
PRODID:-//musikschule-bremen:-gitarrenkonzert//NONSGML kigkonsult.se iCalcr
 eator 2.18//
METHOD:PUBLISH
X-WR-CALNAME:Musikschule Bremen: Gitarrenkonzert
X-WR-CALDESC:
X-WR-TIMEZONE:Europe/Berlin
BEGIN:VTIMEZONE
TZID:Europe/Berlin
X-LIC-LOCATION:Europe/Berlin
BEGIN:STANDARD
DTSTART:20261025T030000
TZOFFSETFROM:+0200
TZOFFSETTO:+0100
TZNAME:CET
END:STANDARD
BEGIN:DAYLIGHT
DTSTART:20260329T020000
TZOFFSETFROM:+0100
TZOFFSETTO:+0200
RDATE:20270328T020000
TZNAME:CEST
END:DAYLIGHT
END:VTIMEZONE
BEGIN:VEVENT
UID:20260422T040448CEST-2487xeJHG8@musikschule-bremen:-gitarrenkonzert
DTSTAMP:20260422T020448Z
DESCRIPTION:Es spielen Schülerinnen und Schüler sowie Ensembles des Fachber
 eichs Zupfinstrumente Koordination: Katja Bergström
DTSTART;TZID=Europe/Berlin:20260509T140000
SUMMARY:Gitarrenkonzert
END:VEVENT
END:VCALENDAR
